BEGIN:VCALENDAR
VERSION:2.0
PRODID:-//All In Poker League - ECPv6.15.20//NONSGML v1.0//EN
CALSCALE:GREGORIAN
METHOD:PUBLISH
X-WR-CALNAME:All In Poker League
X-ORIGINAL-URL:https://www.allinleaguepoker.com
X-WR-CALDESC:Events for All In Poker League
REFRESH-INTERVAL;VALUE=DURATION:PT1H
X-Robots-Tag:noindex
X-PUBLISHED-TTL:PT1H
BEGIN:VTIMEZONE
TZID:America/New_York
BEGIN:DAYLIGHT
TZOFFSETFROM:-0500
TZOFFSETTO:-0400
TZNAME:EDT
DTSTART:20250309T070000
END:DAYLIGHT
BEGIN:STANDARD
TZOFFSETFROM:-0400
TZOFFSETTO:-0500
TZNAME:EST
DTSTART:20251102T060000
END:STANDARD
BEGIN:DAYLIGHT
TZOFFSETFROM:-0500
TZOFFSETTO:-0400
TZNAME:EDT
DTSTART:20260308T070000
END:DAYLIGHT
BEGIN:STANDARD
TZOFFSETFROM:-0400
TZOFFSETTO:-0500
TZNAME:EST
DTSTART:20261101T060000
END:STANDARD
BEGIN:DAYLIGHT
TZOFFSETFROM:-0500
TZOFFSETTO:-0400
TZNAME:EDT
DTSTART:20270314T070000
END:DAYLIGHT
BEGIN:STANDARD
TZOFFSETFROM:-0400
TZOFFSETTO:-0500
TZNAME:EST
DTSTART:20271107T060000
END:STANDARD
END:VTIMEZONE
BEGIN:VEVENT
DTSTART;TZID=America/New_York:20260423T190000
DTEND;TZID=America/New_York:20260423T220000
DTSTAMP:20260423T080506
CREATED:20250529T184824Z
LAST-MODIFIED:20251225T054852Z
UID:10007438-1776970800-1776981600@www.allinleaguepoker.com
SUMMARY:Keegan’s Public House
DESCRIPTION:$100 Freeroll
URL:https://www.allinleaguepoker.com/event/keegans-public-house/2026-04-23/
LOCATION:Keegans\, GA\, United States
CATEGORIES:Regular Game
END:VEVENT
BEGIN:VEVENT
DTSTART;TZID=America/New_York:20260425T190000
DTEND;TZID=America/New_York:20260425T220000
DTSTAMP:20260423T080506
CREATED:20250125T041217Z
LAST-MODIFIED:20251220T041842Z
UID:10004365-1777143600-1777154400@www.allinleaguepoker.com
SUMMARY:Canton Ice House - Holdem
DESCRIPTION:$100 Freeroll \nSeason 6 game \n 
URL:https://www.allinleaguepoker.com/event/canton-ice-house-omaha-2/2026-04-25/
LOCATION:Canton Ice House\, 150 Keith Dr\, Canton\, GA\, 30114\, United States
CATEGORIES:Regular Game
ATTACH;FMTTYPE=image/jpeg:https://www.allinleaguepoker.com/wp-content/uploads/2025/01/IMG_3546.jpeg
ORGANIZER;CN="Chris Watkins":MAILTO:admin@allinleaguepoker.com
END:VEVENT
BEGIN:VEVENT
DTSTART;TZID=America/New_York:20260427T190000
DTEND;TZID=America/New_York:20260427T220000
DTSTAMP:20260423T080506
CREATED:20251208T162652Z
LAST-MODIFIED:20251208T162652Z
UID:10010150-1777316400-1777327200@www.allinleaguepoker.com
SUMMARY:Chopped: Oysters & Asian Eats
DESCRIPTION:$100 Freeroll
URL:https://www.allinleaguepoker.com/event/chopped-oysters-asian-eats-2-2/2026-04-27/
LOCATION:Chopped: Oysters & Asian Eats\, 3060 Cobb Pkwy NW #101\, Kennesaw\, GA\, 30152\, United States
CATEGORIES:Regular Game
ATTACH;FMTTYPE=image/png:https://www.allinleaguepoker.com/wp-content/uploads/2025/11/B31A85BD-E26D-4467-9167-056B49F88477.png
END:VEVENT
BEGIN:VEVENT
DTSTART;TZID=America/New_York:20260428T190000
DTEND;TZID=America/New_York:20260428T220000
DTSTAMP:20260423T080506
CREATED:20250528T235946Z
LAST-MODIFIED:20260126T135254Z
UID:10007723-1777402800-1777413600@www.allinleaguepoker.com
SUMMARY:Canton Ice House
DESCRIPTION:$100 Freeroll \n 
URL:https://www.allinleaguepoker.com/event/canton-ice-house/2026-04-28/
LOCATION:Canton Ice House\, 150 Keith Dr\, Canton\, GA\, 30114\, United States
CATEGORIES:Regular Game
END:VEVENT
BEGIN:VEVENT
DTSTART;TZID=America/New_York:20260428T190000
DTEND;TZID=America/New_York:20260428T220000
DTSTAMP:20260423T080506
CREATED:20250805T135047Z
LAST-MODIFIED:20250805T135140Z
UID:10008003-1777402800-1777413600@www.allinleaguepoker.com
SUMMARY:Brewsters Bar & Grill
DESCRIPTION:$100 Freeroll \nplay for a chance to play in $500 Venue Championship. 2 games in 10-week season to qualify. Every point is crucial\, so come play.
URL:https://www.allinleaguepoker.com/event/brewsters-bar-grill/2026-04-28/
LOCATION:GA
CATEGORIES:Regular Game
ATTACH;FMTTYPE=image/png:https://www.allinleaguepoker.com/wp-content/uploads/2025/08/7FE6FBBF-C933-4618-A31F-482B90153FCC.png
END:VEVENT
BEGIN:VEVENT
DTSTART;TZID=America/New_York:20260429T190000
DTEND;TZID=America/New_York:20260429T220000
DTSTAMP:20260423T080506
CREATED:20260127T040217Z
LAST-MODIFIED:20260127T041125Z
UID:10010430-1777489200-1777500000@www.allinleaguepoker.com
SUMMARY:Rally Point Grille
DESCRIPTION:Payouts based on number of players\nUp to 25 players $100\n25 to 32 players $125\n33+ players $150
URL:https://www.allinleaguepoker.com/event/rally-point-grille/2026-04-29/
LOCATION:Rally Point Grille\, 10009 Hwy 92\, Woodstock\, GA\, 30188\, United States
ATTACH;FMTTYPE=image/png:https://www.allinleaguepoker.com/wp-content/uploads/2026/01/CC28E2A6-328F-45B1-9478-42D29BCA2BF6.png
ORGANIZER;CN="Chris Watkins":MAILTO:admin@allinleaguepoker.com
END:VEVENT
BEGIN:VEVENT
DTSTART;TZID=America/New_York:20260430T190000
DTEND;TZID=America/New_York:20260430T220000
DTSTAMP:20260423T080506
CREATED:20250529T184824Z
LAST-MODIFIED:20251225T054852Z
UID:10007439-1777575600-1777586400@www.allinleaguepoker.com
SUMMARY:Keegan’s Public House
DESCRIPTION:$100 Freeroll
URL:https://www.allinleaguepoker.com/event/keegans-public-house/2026-04-30/
LOCATION:Keegans\, GA\, United States
CATEGORIES:Regular Game
END:VEVENT
END:VCALENDAR